BEGIN:VCALENDAR
VERSION:2.0
PRODID:-//Theater Mobile - ECPv6.3.7//NONSGML v1.0//EN
CALSCALE:GREGORIAN
METHOD:PUBLISH
X-ORIGINAL-URL:https://mobile-zwingenberg.de
X-WR-CALDESC:Veranstaltungen für Theater Mobile
REFRESH-INTERVAL;VALUE=DURATION:PT1H
X-Robots-Tag:noindex
X-PUBLISHED-TTL:PT1H
BEGIN:VTIMEZONE
TZID:Europe/Berlin
BEGIN:DAYLIGHT
TZOFFSETFROM:+0100
TZOFFSETTO:+0200
TZNAME:CEST
DTSTART:20260329T010000
END:DAYLIGHT
BEGIN:STANDARD
TZOFFSETFROM:+0200
TZOFFSETTO:+0100
TZNAME:CET
DTSTART:20261025T010000
END:STANDARD
END:VTIMEZONE
BEGIN:VEVENT
DTSTART;TZID=Europe/Berlin:20260424T200000
DTEND;TZID=Europe/Berlin:20260424T200000
DTSTAMP:20260422T070107
CREATED:20250521T074647Z
LAST-MODIFIED:20260408T110044Z
UID:5804-1777060800-1777060800@mobile-zwingenberg.de
SUMMARY:Cathrin Pfeifer's   TREZOULÉ
DESCRIPTION:Das Trio von Cathrin Pfeifer spielt energetische intuitive Kompositionen\, die knifflig und komplex durchdacht sind und zugleich groovy und mitreißend. Exotisch und doch eingängig und seltsam vertraut. Wer auf Tom Waits\, Zirkus und düsteren Tango steht\, ist hier richtig.\n\nLive entwickeln die Musiker einen faszinierenden magischen World-Mix mit treibenden Grooves und tranceartigen Melodien. Ein Feuerwerk moderner\, äußerst dynamischer Instrumenalmusik\, die gespickt ist mit überraschenden Wechseln und Wendungen. Vorsicht Sogwirkung!\nSie sind groovy\, poetisch\, intensiv\, experimentierfreudig\, lebensfroh.\n\nScheinbar bekannte Quetschensounds werden mit Slidegitarre in andere Dimensionen katapultiert und durch komplexe Drumgrooves wieder auf den Boden geholt.\nHier wird keine Rücksicht auf Hörgewohnheiten genommen. Eine abenteuerfreudige Reise ohne Grenzen und Limitierungen. Modernes Akkordeonspiel\, das weder komplexe Rhythmen noch jazzige Arrangements ausläßt und traditionelle und moderne Grooves miteinander verbindet. \n*Es werden nicht nur die Zügel texanischer Pferde losgelassen\,\n*Tote mecklenburgische Buchten auf Wassertretern erkundet\,\n*nächtliche Gestalten mit macabren Tangos wiederbelebt\,\n*Zirkuszelte mit kreolischem Inselfeeling gefüllt\, sondern auch\n*Anna Quelle dem Wald Weit Web gelauscht\n*Elfen begleitet von bluesigen Sümpfen bis zu afrikanischen Küsten\n*im indischen Ozean nach würzigen Bossarhytmen getanzt\n*Auch wenn unterwegs Koffer verloren gehen\, Verluste zu verzeichnen sind\, man schlawineurt sich durch die Clubs der Metropolen oder im Calypso\nRhythmus über Flohmärkte und bleibt dabei seltsam neugierig und freut sich auf was auch immer passieren wird. \nCathrin Pfeifer – accordeon\, comp.\nTakashi Peterson – guitars\nAndi Bühler – drums\, perc.
URL:https://mobile-zwingenberg.de/event/cathrin-pfeifer-trezoule/
CATEGORIES:Musik
ATTACH;FMTTYPE=image/jpeg:https://mobile-zwingenberg.de/wp-content/uploads/2018/11/C.Pfeifers_Trezoulé3_Foto_Manuel-Miethe_pix-e1616330832420.jpg
END:VEVENT
END:VCALENDAR